BEGIN:VCALENDAR
VERSION:2.0
PRODID:-//Torbay 4x4 Club - ECPv4.8//NONSGML v1.0//EN
CALSCALE:GREGORIAN
METHOD:PUBLISH
X-WR-CALNAME:Torbay 4x4 Club
X-ORIGINAL-URL:https://torbay4x4club.co.uk
X-WR-CALDESC:Events for Torbay 4x4 Club
BEGIN:VEVENT
DTSTART;VALUE=DATE:20230219
DTEND;VALUE=DATE:20230220
DTSTAMP:20260421T005439
CREATED:20221231T105216Z
LAST-MODIFIED:20221231T105250Z
UID:2480-1676764800-1676851199@torbay4x4club.co.uk
SUMMARY:Thorns Cross Trial
DESCRIPTION:Thorns Cross Trial \n
URL:https://torbay4x4club.co.uk/event/trial/
LOCATION:Thorns Cross\, Just off A380\, Chudleigh\, Devon\, TQ13 0BU\, United Kingdom
CATEGORIES:Trial
END:VEVENT
END:VCALENDAR