BEGIN:VCALENDAR
VERSION:2.0
PRODID:-//Torbay 4x4 Club - ECPv4.8//NONSGML v1.0//EN
CALSCALE:GREGORIAN
METHOD:PUBLISH
X-WR-CALNAME:Torbay 4x4 Club
X-ORIGINAL-URL:https://torbay4x4club.co.uk
X-WR-CALDESC:Events for Torbay 4x4 Club
BEGIN:VEVENT
DTSTART;VALUE=DATE:20230730
DTEND;VALUE=DATE:20230731
DTSTAMP:20260420T142454
CREATED:20230620T084256Z
LAST-MODIFIED:20230620T084256Z
UID:2529-1690675200-1690761599@torbay4x4club.co.uk
SUMMARY:Totnes Show
DESCRIPTION:https://www.totnesshow.com/ \n
URL:https://torbay4x4club.co.uk/event/totnes-show-3/
CATEGORIES:Other
END:VEVENT
END:VCALENDAR