BEGIN:VCALENDAR
VERSION:2.0
PRODID:-//Torbay 4x4 Club - ECPv4.8//NONSGML v1.0//EN
CALSCALE:GREGORIAN
METHOD:PUBLISH
X-WR-CALNAME:Torbay 4x4 Club
X-ORIGINAL-URL:https://torbay4x4club.co.uk
X-WR-CALDESC:Events for Torbay 4x4 Club
BEGIN:VEVENT
DTSTART;VALUE=DATE:20220731
DTEND;VALUE=DATE:20220801
DTSTAMP:20260420T142422
CREATED:20220718T082711Z
LAST-MODIFIED:20220718T082711Z
UID:2458-1659225600-1659311999@torbay4x4club.co.uk
SUMMARY:Totnes Show
DESCRIPTION:https://www.totnesshow.com/2022_totnes_show \n
URL:https://torbay4x4club.co.uk/event/totnes-show-2/
CATEGORIES:Other
END:VEVENT
END:VCALENDAR