BEGIN:VCALENDAR
VERSION:2.0
PRODID:-//Torbay 4x4 Club - ECPv4.8//NONSGML v1.0//EN
CALSCALE:GREGORIAN
METHOD:PUBLISH
X-WR-CALNAME:Torbay 4x4 Club
X-ORIGINAL-URL:https://torbay4x4club.co.uk
X-WR-CALDESC:Events for Torbay 4x4 Club
BEGIN:VEVENT
DTSTART;VALUE=DATE:20240802
DTEND;VALUE=DATE:20240805
DTSTAMP:20260420T143408
CREATED:20240115T201703Z
LAST-MODIFIED:20240115T201736Z
UID:2573-1722556800-1722815999@torbay4x4club.co.uk
SUMMARY:Torbay Steam Fair
DESCRIPTION:Torbay 4×4 goes to the steam fair https://torbaysteamfair.co.uk/ \n
URL:https://torbay4x4club.co.uk/event/torbay-steam-fair-6/
LOCATION:Steam Fair\, Brixham Road\, Brixham\, Devon\, TQ5\, United Kingdom
CATEGORIES:Other
END:VEVENT
END:VCALENDAR