BEGIN:VCALENDAR
VERSION:2.0
PRODID:-//Torbay 4x4 Club - ECPv4.8//NONSGML v1.0//EN
CALSCALE:GREGORIAN
METHOD:PUBLISH
X-WR-CALNAME:Torbay 4x4 Club
X-ORIGINAL-URL:https://torbay4x4club.co.uk
X-WR-CALDESC:Events for Torbay 4x4 Club
BEGIN:VEVENT
DTSTART;VALUE=DATE:20230804
DTEND;VALUE=DATE:20230807
DTSTAMP:20260420T140307
CREATED:20230123T195935Z
LAST-MODIFIED:20230620T084415Z
UID:2492-1691107200-1691366399@torbay4x4club.co.uk
SUMMARY:Torbay Steam Fair
DESCRIPTION:Torbay Steam Fair 2023 \nHome \n \n
URL:https://torbay4x4club.co.uk/event/torbay-steam-fair-5/
LOCATION:Steam Fair\, Brixham Road\, Brixham\, Devon\, TQ5\, United Kingdom
CATEGORIES:Other
END:VEVENT
END:VCALENDAR