BEGIN:VCALENDAR
VERSION:2.0
PRODID:-//Torbay 4x4 Club - ECPv4.8//NONSGML v1.0//EN
CALSCALE:GREGORIAN
METHOD:PUBLISH
X-WR-CALNAME:Torbay 4x4 Club
X-ORIGINAL-URL:https://torbay4x4club.co.uk
X-WR-CALDESC:Events for Torbay 4x4 Club
BEGIN:VEVENT
DTSTART;TZID=UTC+0:20190802T080000
DTEND;TZID=UTC+0:20190804T230000
DTSTAMP:20260420T162615
CREATED:20181121T203134Z
LAST-MODIFIED:20181231T164227Z
UID:2210-1564732800-1564959600@torbay4x4club.co.uk
SUMMARY:Torbay Steam Fair
DESCRIPTION:
URL:https://torbay4x4club.co.uk/event/torbay-steam-fair-3/
LOCATION:Steam Fair\, Brixham Road\, Brixham\, Devon\, TQ5\, United Kingdom
CATEGORIES:Event
END:VEVENT
END:VCALENDAR