BEGIN:VCALENDAR
VERSION:2.0
PRODID:-//Torbay 4x4 Club - ECPv4.8//NONSGML v1.0//EN
CALSCALE:GREGORIAN
METHOD:PUBLISH
X-WR-CALNAME:Torbay 4x4 Club
X-ORIGINAL-URL:https://torbay4x4club.co.uk
X-WR-CALDESC:Events for Torbay 4x4 Club
BEGIN:VEVENT
DTSTART;VALUE=DATE:20181118
DTEND;VALUE=DATE:20181119
DTSTAMP:20260420T160728
CREATED:20171218T091038Z
LAST-MODIFIED:20171218T091038Z
UID:2174-1542499200-1542585599@torbay4x4club.co.uk
SUMMARY:Thorns Cross Trial
DESCRIPTION:
URL:https://torbay4x4club.co.uk/event/thorns-cross-trial-9/
LOCATION:Thorns Cross\, Just off A380\, Chudleigh\, Devon\, TQ13 0BU\, United Kingdom
CATEGORIES:Trial
END:VEVENT
END:VCALENDAR