BEGIN:VCALENDAR
VERSION:2.0
PRODID:-//Torbay 4x4 Club - ECPv4.8//NONSGML v1.0//EN
CALSCALE:GREGORIAN
METHOD:PUBLISH
X-WR-CALNAME:Torbay 4x4 Club
X-ORIGINAL-URL:https://torbay4x4club.co.uk
X-WR-CALDESC:Events for Torbay 4x4 Club
BEGIN:VEVENT
DTSTART;VALUE=DATE:20151213
DTEND;VALUE=DATE:20151214
DTSTAMP:20260420T194208
CREATED:20151127T211530Z
LAST-MODIFIED:20151127T211530Z
UID:2052-1449964800-1450051199@torbay4x4club.co.uk
SUMMARY:Thorns Cross Trial
DESCRIPTION:
URL:https://torbay4x4club.co.uk/event/thorns-cross-trial-4/
LOCATION:Thorns Cross\, Just off A380\, Chudleigh\, Devon\, TQ13 0BU\, United Kingdom
CATEGORIES:Trial
END:VEVENT
END:VCALENDAR