BEGIN:VCALENDAR
VERSION:2.0
PRODID:-//Torbay 4x4 Club - ECPv4.8//NONSGML v1.0//EN
CALSCALE:GREGORIAN
METHOD:PUBLISH
X-WR-CALNAME:Torbay 4x4 Club
X-ORIGINAL-URL:https://torbay4x4club.co.uk
X-WR-CALDESC:Events for Torbay 4x4 Club
BEGIN:VEVENT
DTSTART;VALUE=DATE:20220320
DTEND;VALUE=DATE:20220321
DTSTAMP:20260421T000422
CREATED:20211001T110611Z
LAST-MODIFIED:20211001T110611Z
UID:2406-1647734400-1647820799@torbay4x4club.co.uk
SUMMARY:Thorns Cross Trial
DESCRIPTION:Thorns Cross Trial \n
URL:https://torbay4x4club.co.uk/event/thorns-cross-trial-18/
LOCATION:Thorns Cross\, Just off A380\, Chudleigh\, Devon\, TQ13 0BU\, United Kingdom
CATEGORIES:Trial
END:VEVENT
END:VCALENDAR