BEGIN:VCALENDAR
VERSION:2.0
PRODID:-//Torbay 4x4 Club - ECPv4.8//NONSGML v1.0//EN
CALSCALE:GREGORIAN
METHOD:PUBLISH
X-WR-CALNAME:Torbay 4x4 Club
X-ORIGINAL-URL:https://torbay4x4club.co.uk
X-WR-CALDESC:Events for Torbay 4x4 Club
BEGIN:VEVENT
DTSTART;VALUE=DATE:20200223
DTEND;VALUE=DATE:20200224
DTSTAMP:20260421T031856
CREATED:20191216T110918Z
LAST-MODIFIED:20191216T110918Z
UID:2293-1582416000-1582502399@torbay4x4club.co.uk
SUMMARY:Thorns Cross Trial
DESCRIPTION:Thorns Cross Trial \n
URL:https://torbay4x4club.co.uk/event/thorns-cross-trial-14/
LOCATION:Thorns Cross\, Just off A380\, Chudleigh\, Devon\, TQ13 0BU\, United Kingdom
CATEGORIES:Trial
END:VEVENT
END:VCALENDAR