BEGIN:VCALENDAR
VERSION:2.0
PRODID:-//Torbay 4x4 Club - ECPv4.8//NONSGML v1.0//EN
CALSCALE:GREGORIAN
METHOD:PUBLISH
X-WR-CALNAME:Torbay 4x4 Club
X-ORIGINAL-URL:https://torbay4x4club.co.uk
X-WR-CALDESC:Events for Torbay 4x4 Club
BEGIN:VEVENT
DTSTART;VALUE=DATE:20201018
DTEND;VALUE=DATE:20201019
DTSTAMP:20260421T012202
CREATED:20191216T111548Z
LAST-MODIFIED:20201016T085806Z
UID:2309-1602979200-1603065599@torbay4x4club.co.uk
SUMMARY:Ogwell Trial **Cancelled**
DESCRIPTION:Event Cancelled \n**** \nOgwell Trial \nPlease be Covid 19 ready for this event \n
URL:https://torbay4x4club.co.uk/event/tbc-trial-3/
LOCATION:Ogwell Woods\, Stonemans Hill\, Totnes\, Devon\, TQ12 5PZ\, United Kingdom
CATEGORIES:Trial
END:VEVENT
END:VCALENDAR