BEGIN:VCALENDAR
VERSION:2.0
PRODID:-//Torbay 4x4 Club - ECPv4.8//NONSGML v1.0//EN
CALSCALE:GREGORIAN
METHOD:PUBLISH
X-WR-CALNAME:Torbay 4x4 Club
X-ORIGINAL-URL:https://torbay4x4club.co.uk
X-WR-CALDESC:Events for Torbay 4x4 Club
BEGIN:VEVENT
DTSTART;VALUE=DATE:20200719
DTEND;VALUE=DATE:20200720
DTSTAMP:20260420T233636
CREATED:20191216T111415Z
LAST-MODIFIED:20200629T130023Z
UID:2305-1595116800-1595203199@torbay4x4club.co.uk
SUMMARY:Ogwell Trial
DESCRIPTION:Possible Trial at Ogwell depending on Covid19 status \nOgwell_118271 \n
URL:https://torbay4x4club.co.uk/event/tbc-trial-2/
LOCATION:Ogwell Woods\, Stonemans Hill\, Totnes\, Devon\, TQ12 5PZ\, United Kingdom
CATEGORIES:Trial
END:VEVENT
END:VCALENDAR