BEGIN:VCALENDAR
VERSION:2.0
PRODID:-//Torbay 4x4 Club - ECPv4.8//NONSGML v1.0//EN
CALSCALE:GREGORIAN
METHOD:PUBLISH
X-WR-CALNAME:Torbay 4x4 Club
X-ORIGINAL-URL:https://torbay4x4club.co.uk
X-WR-CALDESC:Events for Torbay 4x4 Club
BEGIN:VEVENT
DTSTART;VALUE=DATE:20240915
DTEND;VALUE=DATE:20240916
DTSTAMP:20260420T161809
CREATED:20240115T201839Z
LAST-MODIFIED:20240913T112350Z
UID:2576-1726358400-1726444799@torbay4x4club.co.uk
SUMMARY:Sept Trial Chudleigh
DESCRIPTION:Chudleigh trial \nDrivers Entry form\nhttps://torbay4x4club.co.uk/wp-content/uploads/2024/09/Chud_Sept_SignOn.pdf \n
URL:https://torbay4x4club.co.uk/event/sept-trial-chudleigh/
LOCATION:Chudleigh Woods\, Farly Hill\, Chudleigh\, Devon\, TQ13 0NH\, United Kingdom
CATEGORIES:Trial
END:VEVENT
END:VCALENDAR