BEGIN:VCALENDAR
VERSION:2.0
PRODID:-//Torbay 4x4 Club - ECPv4.8//NONSGML v1.0//EN
CALSCALE:GREGORIAN
METHOD:PUBLISH
X-WR-CALNAME:Torbay 4x4 Club
X-ORIGINAL-URL:https://torbay4x4club.co.uk
X-WR-CALDESC:Events for Torbay 4x4 Club
BEGIN:VEVENT
DTSTART;VALUE=DATE:20230716
DTEND;VALUE=DATE:20230717
DTSTAMP:20260420T160805
CREATED:20230222T165824Z
LAST-MODIFIED:20230709T151221Z
UID:2505-1689465600-1689551999@torbay4x4club.co.uk
SUMMARY:Ogwell Trial
DESCRIPTION:Ogwell Trial \nSign on sheets download\nhttps://torbay4x4club.co.uk/wp-content/uploads/2023/07/Ogw_Jul_SignOn.pdf \n
URL:https://torbay4x4club.co.uk/event/ogwell-trial-19/
LOCATION:Ogwell Woods\, Stonemans Hill\, Totnes\, Devon\, TQ12 5PZ\, United Kingdom
CATEGORIES:Trial
END:VEVENT
END:VCALENDAR