BEGIN:VCALENDAR
VERSION:2.0
PRODID:-//Torbay 4x4 Club - ECPv4.8//NONSGML v1.0//EN
CALSCALE:GREGORIAN
METHOD:PUBLISH
X-WR-CALNAME:Torbay 4x4 Club
X-ORIGINAL-URL:https://torbay4x4club.co.uk
X-WR-CALDESC:Events for Torbay 4x4 Club
BEGIN:VEVENT
DTSTART;TZID=UTC+0:20230521T080000
DTEND;TZID=UTC+0:20230521T170000
DTSTAMP:20260420T194208
CREATED:20230222T165631Z
LAST-MODIFIED:20230516T065800Z
UID:2501-1684656000-1684688400@torbay4x4club.co.uk
SUMMARY:Ogwell Trial
DESCRIPTION:Ogwell Trial \nDrivers Documents\nhttps://torbay4x4club.co.uk/wp-content/uploads/2023/05/Ogw_May_SignOn.pdf \n
URL:https://torbay4x4club.co.uk/event/ogwell-trial-18/
LOCATION:Ogwell Woods\, Stonemans Hill\, Totnes\, Devon\, TQ12 5PZ\, United Kingdom
CATEGORIES:Trial
END:VEVENT
END:VCALENDAR