BEGIN:VCALENDAR
VERSION:2.0
PRODID:-//Torbay 4x4 Club - ECPv4.8//NONSGML v1.0//EN
CALSCALE:GREGORIAN
METHOD:PUBLISH
X-WR-CALNAME:Torbay 4x4 Club
X-ORIGINAL-URL:https://torbay4x4club.co.uk
X-WR-CALDESC:Events for Torbay 4x4 Club
BEGIN:VEVENT
DTSTART;VALUE=DATE:20190721
DTEND;VALUE=DATE:20190722
DTSTAMP:20260420T161809
CREATED:20180721T203709Z
LAST-MODIFIED:20181231T164159Z
UID:2213-1563667200-1563753599@torbay4x4club.co.uk
SUMMARY:Ogwell Trial
DESCRIPTION:
URL:https://torbay4x4club.co.uk/event/ogwell-trial-11/
LOCATION:Ogwell Woods\, Stonemans Hill\, Totnes\, Devon\, TQ12 5PZ\, United Kingdom
CATEGORIES:Trial
END:VEVENT
END:VCALENDAR