BEGIN:VCALENDAR
VERSION:2.0
PRODID:-//Torbay 4x4 Club - ECPv4.8//NONSGML v1.0//EN
CALSCALE:GREGORIAN
METHOD:PUBLISH
X-WR-CALNAME:Torbay 4x4 Club
X-ORIGINAL-URL:https://torbay4x4club.co.uk
X-WR-CALDESC:Events for Torbay 4x4 Club
BEGIN:VEVENT
DTSTART;TZID=UTC+0:20151202T200000
DTEND;TZID=UTC+0:20151202T220000
DTSTAMP:20260420T230209
CREATED:20151127T205744Z
LAST-MODIFIED:20151127T205744Z
UID:2037-1449086400-1449093600@torbay4x4club.co.uk
SUMMARY:Natter
DESCRIPTION:
URL:https://torbay4x4club.co.uk/event/natter/
LOCATION:Noahs Ark\, 267 Totnes Road\, Paignton\, Devon\, TQ4 7HB\, United Kingdom
END:VEVENT
END:VCALENDAR