BEGIN:VCALENDAR
VERSION:2.0
PRODID:-//Torbay 4x4 Club - ECPv4.8//NONSGML v1.0//EN
CALSCALE:GREGORIAN
METHOD:PUBLISH
X-WR-CALNAME:Torbay 4x4 Club
X-ORIGINAL-URL:https://torbay4x4club.co.uk
X-WR-CALDESC:Events for Torbay 4x4 Club
BEGIN:VEVENT
DTSTART;TZID=UTC+0:20160302T200000
DTEND;TZID=UTC+0:20160302T220000
DTSTAMP:20260420T213557
CREATED:20151127T211230Z
LAST-MODIFIED:20160204T091410Z
UID:2050-1456948800-1456956000@torbay4x4club.co.uk
SUMMARY:Natter
DESCRIPTION:
URL:https://torbay4x4club.co.uk/event/natter-2/
LOCATION:Noahs Ark\, 267 Totnes Road\, Paignton\, Devon\, TQ4 7HB\, United Kingdom
CATEGORIES:Natter
END:VEVENT
END:VCALENDAR