BEGIN:VCALENDAR
VERSION:2.0
PRODID:-//Torbay 4x4 Club - ECPv4.8//NONSGML v1.0//EN
CALSCALE:GREGORIAN
METHOD:PUBLISH
X-WR-CALNAME:Torbay 4x4 Club
X-ORIGINAL-URL:https://torbay4x4club.co.uk
X-WR-CALDESC:Events for Torbay 4x4 Club
BEGIN:VEVENT
DTSTART;VALUE=DATE:20160110
DTEND;VALUE=DATE:20160111
DTSTAMP:20260420T161238
CREATED:20151127T212142Z
LAST-MODIFIED:20151127T212630Z
UID:2054-1452384000-1452470399@torbay4x4club.co.uk
SUMMARY:Malvern 4x4 Spares Day
DESCRIPTION:
URL:https://torbay4x4club.co.uk/event/malvern-4x4-spares-day/
CATEGORIES:Other
END:VEVENT
END:VCALENDAR