BEGIN:VCALENDAR
VERSION:2.0
PRODID:-//Torbay 4x4 Club - ECPv4.8//NONSGML v1.0//EN
CALSCALE:GREGORIAN
METHOD:PUBLISH
X-WR-CALNAME:Torbay 4x4 Club
X-ORIGINAL-URL:https://torbay4x4club.co.uk
X-WR-CALDESC:Events for Torbay 4x4 Club
BEGIN:VEVENT
DTSTART;VALUE=DATE:20160102
DTEND;VALUE=DATE:20160103
DTSTAMP:20260420T180024
CREATED:20151120T193700Z
LAST-MODIFIED:20151127T204910Z
UID:199-1451692800-1451779199@torbay4x4club.co.uk
SUMMARY:Laning Trip
DESCRIPTION:Laning for January details to be added later. \n
URL:https://torbay4x4club.co.uk/event/january-lanes/
CATEGORIES:Event
END:VEVENT
END:VCALENDAR