BEGIN:VCALENDAR
VERSION:2.0
PRODID:-//Torbay 4x4 Club - ECPv4.8//NONSGML v1.0//EN
CALSCALE:GREGORIAN
METHOD:PUBLISH
X-WR-CALNAME:Torbay 4x4 Club
X-ORIGINAL-URL:https://torbay4x4club.co.uk
X-WR-CALDESC:Events for Torbay 4x4 Club
BEGIN:VEVENT
DTSTART;VALUE=DATE:20190317
DTEND;VALUE=DATE:20190318
DTSTAMP:20260420T213646
CREATED:20181231T163751Z
LAST-MODIFIED:20190205T204942Z
UID:2205-1552780800-1552867199@torbay4x4club.co.uk
SUMMARY:Hittisleigh Trial
DESCRIPTION:Try out the new site at Hittisleigh \n
URL:https://torbay4x4club.co.uk/event/hittisleigh-trial/
LOCATION:Hittisleigh\, Unnamed Road\, Hittisleigh\, Devon\, EX6 6LP\, United Kingdom
CATEGORIES:Trial
END:VEVENT
END:VCALENDAR