BEGIN:VCALENDAR
VERSION:2.0
PRODID:-//Torbay 4x4 Club - ECPv4.8//NONSGML v1.0//EN
CALSCALE:GREGORIAN
METHOD:PUBLISH
X-WR-CALNAME:Torbay 4x4 Club
X-ORIGINAL-URL:https://torbay4x4club.co.uk
X-WR-CALDESC:Events for Torbay 4x4 Club
BEGIN:VEVENT
DTSTART;TZID=UTC+0:20220825T080000
DTEND;TZID=UTC+0:20220829T170000
DTSTAMP:20260420T142711
CREATED:20220316T201247Z
LAST-MODIFIED:20220316T201247Z
UID:2441-1661414400-1661792400@torbay4x4club.co.uk
SUMMARY:Dorset Steam Fair
DESCRIPTION:Dorset Steam Fair \n
URL:https://torbay4x4club.co.uk/event/dorset-steam-fair/
CATEGORIES:Other
END:VEVENT
END:VCALENDAR