BEGIN:VCALENDAR
VERSION:2.0
PRODID:-//Torbay 4x4 Club - ECPv4.8//NONSGML v1.0//EN
CALSCALE:GREGORIAN
METHOD:PUBLISH
X-WR-CALNAME:Torbay 4x4 Club
X-ORIGINAL-URL:https://torbay4x4club.co.uk
X-WR-CALDESC:Events for Torbay 4x4 Club
BEGIN:VEVENT
DTSTART;VALUE=DATE:20210919
DTEND;VALUE=DATE:20210920
DTSTAMP:20260421T012115
CREATED:20210707T134244Z
LAST-MODIFIED:20210820T074731Z
UID:2382-1632009600-1632095999@torbay4x4club.co.uk
SUMMARY:Chudleigh Trial
DESCRIPTION:Chudleigh Trial September 19th \n
URL:https://torbay4x4club.co.uk/event/chudleigh/
LOCATION:Chudleigh Woods\, Farly Hill\, Chudleigh\, Devon\, TQ13 0NH\, United Kingdom
CATEGORIES:Trial
END:VEVENT
END:VCALENDAR