BEGIN:VCALENDAR
VERSION:2.0
PRODID:-//Torbay 4x4 Club - ECPv4.8//NONSGML v1.0//EN
CALSCALE:GREGORIAN
METHOD:PUBLISH
X-WR-CALNAME:Torbay 4x4 Club
X-ORIGINAL-URL:https://torbay4x4club.co.uk
X-WR-CALDESC:Events for Torbay 4x4 Club
BEGIN:VEVENT
DTSTART;VALUE=DATE:20200419
DTEND;VALUE=DATE:20200420
DTSTAMP:20260421T012913
CREATED:20191216T111122Z
LAST-MODIFIED:20191216T111122Z
UID:2299-1587254400-1587340799@torbay4x4club.co.uk
SUMMARY:Chudleigh Trial
DESCRIPTION:Chudleigh Trial \n
URL:https://torbay4x4club.co.uk/event/chudleigh-trial-9/
LOCATION:Chudleigh Woods\, Farly Hill\, Chudleigh\, Devon\, TQ13 0NH\, United Kingdom
CATEGORIES:Trial
END:VEVENT
END:VCALENDAR