BEGIN:VCALENDAR
VERSION:2.0
PRODID:-//Torbay 4x4 Club - ECPv4.8//NONSGML v1.0//EN
CALSCALE:GREGORIAN
METHOD:PUBLISH
X-WR-CALNAME:Torbay 4x4 Club
X-ORIGINAL-URL:https://torbay4x4club.co.uk
X-WR-CALDESC:Events for Torbay 4x4 Club
BEGIN:VEVENT
DTSTART;VALUE=DATE:20250427
DTEND;VALUE=DATE:20250428
DTSTAMP:20260421T012233
CREATED:20241107T185857Z
LAST-MODIFIED:20241107T185857Z
UID:2644-1745712000-1745798399@torbay4x4club.co.uk
SUMMARY:Chudleigh Trial
DESCRIPTION:Chudleigh Trial \n
URL:https://torbay4x4club.co.uk/event/chudleigh-trial-19/
CATEGORIES:Trial
END:VEVENT
END:VCALENDAR