BEGIN:VCALENDAR
VERSION:2.0
PRODID:-//Torbay 4x4 Club - ECPv4.8//NONSGML v1.0//EN
CALSCALE:GREGORIAN
METHOD:PUBLISH
X-WR-CALNAME:Torbay 4x4 Club
X-ORIGINAL-URL:https://torbay4x4club.co.uk
X-WR-CALDESC:Events for Torbay 4x4 Club
BEGIN:VEVENT
DTSTART;VALUE=DATE:20220918
DTEND;VALUE=DATE:20220919
DTSTAMP:20260420T180553
CREATED:20220316T200709Z
LAST-MODIFIED:20220912T070145Z
UID:2430-1663459200-1663545599@torbay4x4club.co.uk
SUMMARY:Chudleigh Trial
DESCRIPTION:Chudleigh Trial \nDrivers Paperwork\nhttps://torbay4x4club.co.uk/wp-content/uploads/2022/09/Chud_Sep_SignOn.pdf \n
URL:https://torbay4x4club.co.uk/event/chudleigh-trial-13/
LOCATION:Chudleigh Woods\, Farly Hill\, Chudleigh\, Devon\, TQ13 0NH\, United Kingdom
CATEGORIES:Trial
END:VEVENT
END:VCALENDAR