BEGIN:VCALENDAR
VERSION:2.0
PRODID:-//Torbay 4x4 Club - ECPv4.8//NONSGML v1.0//EN
CALSCALE:GREGORIAN
METHOD:PUBLISH
X-WR-CALNAME:Torbay 4x4 Club
X-ORIGINAL-URL:https://torbay4x4club.co.uk
X-WR-CALDESC:Events for Torbay 4x4 Club
BEGIN:VEVENT
DTSTART;VALUE=DATE:20200920
DTEND;VALUE=DATE:20200921
DTSTAMP:20260421T012324
CREATED:20191216T111459Z
LAST-MODIFIED:20200916T100333Z
UID:2307-1600560000-1600646399@torbay4x4club.co.uk
SUMMARY:Chudleigh Trial  *Canceled*
DESCRIPTION:**Canceled**\nChudleigh Trial \n
URL:https://torbay4x4club.co.uk/event/chudleigh-trial-10/
LOCATION:Chudleigh Woods\, Farly Hill\, Chudleigh\, Devon\, TQ13 0NH\, United Kingdom
CATEGORIES:Trial
END:VEVENT
END:VCALENDAR