BEGIN:VCALENDAR
VERSION:2.0
PRODID:-//Torbay 4x4 Club - ECPv4.8//NONSGML v1.0//EN
CALSCALE:GREGORIAN
METHOD:PUBLISH
X-WR-CALNAME:Torbay 4x4 Club
X-ORIGINAL-URL:https://torbay4x4club.co.uk
X-WR-CALDESC:Events for Torbay 4x4 Club
BEGIN:VEVENT
DTSTART;TZID=UTC+0:20210618T080000
DTEND;TZID=UTC+0:20210620T160000
DTSTAMP:20260420T214252
CREATED:20210606T091119Z
LAST-MODIFIED:20210707T134552Z
UID:2375-1624003200-1624204800@torbay4x4club.co.uk
SUMMARY:Chudleigh Event
DESCRIPTION:Chudleigh Weekend Event \n
URL:https://torbay4x4club.co.uk/event/chudleigh-event/
LOCATION:Chudleigh Woods\, Farly Hill\, Chudleigh\, Devon\, TQ13 0NH\, United Kingdom
CATEGORIES:Event
END:VEVENT
END:VCALENDAR