BEGIN:VCALENDAR
VERSION:2.0
PRODID:-//Torbay 4x4 Club - ECPv4.8//NONSGML v1.0//EN
CALSCALE:GREGORIAN
METHOD:PUBLISH
X-WR-CALNAME:Torbay 4x4 Club
X-ORIGINAL-URL:https://torbay4x4club.co.uk
X-WR-CALDESC:Events for Torbay 4x4 Club
BEGIN:VEVENT
DTSTART;VALUE=DATE:20180623
DTEND;VALUE=DATE:20180625
DTSTAMP:20260420T233637
CREATED:20171218T090644Z
LAST-MODIFIED:20171218T090644Z
UID:2164-1529712000-1529884799@torbay4x4club.co.uk
SUMMARY:Chudleigh Camping
DESCRIPTION:
URL:https://torbay4x4club.co.uk/event/chudleigh-camping/
LOCATION:Chudleigh Woods\, Farly Hill\, Chudleigh\, Devon\, TQ13 0NH\, United Kingdom
CATEGORIES:Event
END:VEVENT
END:VCALENDAR