BEGIN:VCALENDAR
VERSION:2.0
PRODID:-//Torbay 4x4 Club - ECPv4.8//NONSGML v1.0//EN
CALSCALE:GREGORIAN
METHOD:PUBLISH
X-WR-CALNAME:Torbay 4x4 Club
X-ORIGINAL-URL:https://torbay4x4club.co.uk
X-WR-CALDESC:Events for Torbay 4x4 Club
BEGIN:VEVENT
DTSTART;VALUE=DATE:20240622
DTEND;VALUE=DATE:20240624
DTSTAMP:20260420T181852
CREATED:20240115T201418Z
LAST-MODIFIED:20240617T064158Z
UID:2569-1719014400-1719187199@torbay4x4club.co.uk
SUMMARY:Chudleigh Camping Weekend
DESCRIPTION:Camping  @ Chudleigh \nDrivers Sign on\nhttps://torbay4x4club.co.uk/wp-content/uploads/2024/06/Chu_Jun_SignOn.pdf \n
URL:https://torbay4x4club.co.uk/event/chudleigh-camping-weekend-5/
LOCATION:Chudleigh Woods\, Farly Hill\, Chudleigh\, Devon\, TQ13 0NH\, United Kingdom
CATEGORIES:Event
END:VEVENT
END:VCALENDAR