BEGIN:VCALENDAR
VERSION:2.0
PRODID:-//Torbay 4x4 Club - ECPv4.8//NONSGML v1.0//EN
CALSCALE:GREGORIAN
METHOD:PUBLISH
X-WR-CALNAME:Torbay 4x4 Club
X-ORIGINAL-URL:https://torbay4x4club.co.uk
X-WR-CALDESC:Events for Torbay 4x4 Club
BEGIN:VEVENT
DTSTART;TZID=UTC+0:20200619T190000
DTEND;TZID=UTC+0:20200621T190000
DTSTAMP:20260420T213618
CREATED:20191216T111328Z
LAST-MODIFIED:20191216T111328Z
UID:2303-1592593200-1592766000@torbay4x4club.co.uk
SUMMARY:Chudleigh Camping Weekend
DESCRIPTION:Camping weekend at Chudleigh \n
URL:https://torbay4x4club.co.uk/event/chudleigh-camping-weekend-4/
LOCATION:Chudleigh Woods\, Farly Hill\, Chudleigh\, Devon\, TQ13 0NH\, United Kingdom
CATEGORIES:Event
END:VEVENT
END:VCALENDAR