BEGIN:VCALENDAR
VERSION:2.0
PRODID:-//Torbay 4x4 Club - ECPv4.8//NONSGML v1.0//EN
CALSCALE:GREGORIAN
METHOD:PUBLISH
X-WR-CALNAME:Torbay 4x4 Club
X-ORIGINAL-URL:https://torbay4x4club.co.uk
X-WR-CALDESC:Events for Torbay 4x4 Club
BEGIN:VEVENT
DTSTART;TZID=UTC+0:20190621T160000
DTEND;TZID=UTC+0:20190623T203000
DTSTAMP:20260420T194837
CREATED:20181121T204101Z
LAST-MODIFIED:20181231T164143Z
UID:2208-1561132800-1561321800@torbay4x4club.co.uk
SUMMARY:Chudleigh Camping Weekend
DESCRIPTION:
URL:https://torbay4x4club.co.uk/event/chudleigh-camping-weekend-3/
LOCATION:Chudleigh Woods\, Farly Hill\, Chudleigh\, Devon\, TQ13 0NH\, United Kingdom
CATEGORIES:Event
END:VEVENT
END:VCALENDAR