BEGIN:VCALENDAR
VERSION:2.0
PRODID:-//Torbay 4x4 Club - ECPv4.8//NONSGML v1.0//EN
CALSCALE:GREGORIAN
METHOD:PUBLISH
X-WR-CALNAME:Torbay 4x4 Club
X-ORIGINAL-URL:https://torbay4x4club.co.uk
X-WR-CALDESC:Events for Torbay 4x4 Club
BEGIN:VEVENT
DTSTART;TZID=UTC+0:20161203T190000
DTEND;TZID=UTC+0:20161203T220000
DTSTAMP:20260420T211704
CREATED:20151127T210930Z
LAST-MODIFIED:20161101T195049Z
UID:2048-1480791600-1480802400@torbay4x4club.co.uk
SUMMARY:Christmas Meal
DESCRIPTION:Christmas Meal at the Noahs Ark Paignton\, £16.95 per head please book in advance with a member of the committee. \nAll monies to be paid at the November Trial 20th Thorns Cross \n
URL:https://torbay4x4club.co.uk/event/christmas-meal/
LOCATION:Noahs Ark\, 267 Totnes Road\, Paignton\, Devon\, TQ4 7HB\, United Kingdom
CATEGORIES:Event
END:VEVENT
END:VCALENDAR