BEGIN:VCALENDAR
VERSION:2.0
PRODID:-//Torbay 4x4 Club - ECPv4.8//NONSGML v1.0//EN
CALSCALE:GREGORIAN
METHOD:PUBLISH
X-WR-CALNAME:Torbay 4x4 Club
X-ORIGINAL-URL:https://torbay4x4club.co.uk
X-WR-CALDESC:Events for Torbay 4x4 Club
BEGIN:VEVENT
DTSTART;TZID=UTC+0:20171202T200000
DTEND;TZID=UTC+0:20171202T235500
DTSTAMP:20260420T142252
CREATED:20161101T194313Z
LAST-MODIFIED:20161101T194313Z
UID:2143-1512244800-1512258900@torbay4x4club.co.uk
SUMMARY:Christmas Dinner
DESCRIPTION:
URL:https://torbay4x4club.co.uk/event/christmas-dinner/
LOCATION:Noahs Ark\, 267 Totnes Road\, Paignton\, Devon\, TQ4 7HB\, United Kingdom
CATEGORIES:Other
END:VEVENT
END:VCALENDAR