BEGIN:VCALENDAR
VERSION:2.0
PRODID:-//Torbay 4x4 Club - ECPv4.8//NONSGML v1.0//EN
CALSCALE:GREGORIAN
METHOD:PUBLISH
X-WR-CALNAME:Torbay 4x4 Club
X-ORIGINAL-URL:https://torbay4x4club.co.uk
X-WR-CALDESC:Events for Torbay 4x4 Club
BEGIN:VEVENT
DTSTART;TZID=UTC+0:20190816T090000
DTEND;TZID=UTC+0:20190818T170000
DTSTAMP:20260420T182309
CREATED:20180817T203531Z
LAST-MODIFIED:20190814T114819Z
UID:2211-1565946000-1566147600@torbay4x4club.co.uk
SUMMARY:Camping Weekend Hittisleigh *Canceled*
DESCRIPTION:*Canceled* \nCamping weekend Hittisleigh \n
URL:https://torbay4x4club.co.uk/event/camping-weekend/
LOCATION:Hittisleigh\, Unnamed Road\, Hittisleigh\, Devon\, EX6 6LP\, United Kingdom
CATEGORIES:Event
END:VEVENT
END:VCALENDAR