BEGIN:VCALENDAR
VERSION:2.0
PRODID:-//Torbay 4x4 Club - ECPv4.8//NONSGML v1.0//EN
CALSCALE:GREGORIAN
METHOD:PUBLISH
X-WR-CALNAME:Torbay 4x4 Club
X-ORIGINAL-URL:https://torbay4x4club.co.uk
X-WR-CALDESC:Events for Torbay 4x4 Club
BEGIN:VEVENT
DTSTART;VALUE=DATE:20180811
DTEND;VALUE=DATE:20180813
DTSTAMP:20260420T212718
CREATED:20171218T090826Z
LAST-MODIFIED:20171218T090826Z
UID:2168-1533945600-1534118399@torbay4x4club.co.uk
SUMMARY:Bush Farm
DESCRIPTION:
URL:https://torbay4x4club.co.uk/event/bush-farm/
LOCATION:Bush Farm\, Pillaton\, Saltash\, Cornwall\, PL12 6QY\, United Kingdom
CATEGORIES:Event
END:VEVENT
END:VCALENDAR