BEGIN:VCALENDAR
VERSION:2.0
PRODID:-//Torbay 4x4 Club - ECPv4.8//NONSGML v1.0//EN
CALSCALE:GREGORIAN
METHOD:PUBLISH
X-WR-CALNAME:Torbay 4x4 Club
X-ORIGINAL-URL:https://torbay4x4club.co.uk
X-WR-CALDESC:Events for Torbay 4x4 Club
BEGIN:VEVENT
DTSTART;VALUE=DATE:20160729
DTEND;VALUE=DATE:20160801
DTSTAMP:20260420T161427
CREATED:20151127T211922Z
LAST-MODIFIED:20151127T211922Z
UID:2053-1469750400-1470009599@torbay4x4club.co.uk
SUMMARY:Billing Land Rover Fest
DESCRIPTION:
URL:https://torbay4x4club.co.uk/event/billing-land-rover-fest/
CATEGORIES:Other
END:VEVENT
END:VCALENDAR