BEGIN:VCALENDAR
VERSION:2.0
PRODID:-//Torbay 4x4 Club - ECPv4.8//NONSGML v1.0//EN
CALSCALE:GREGORIAN
METHOD:PUBLISH
X-WR-CALNAME:Torbay 4x4 Club
X-ORIGINAL-URL:https://torbay4x4club.co.uk
X-WR-CALDESC:Events for Torbay 4x4 Club
BEGIN:VEVENT
DTSTART;VALUE=DATE:20170219
DTEND;VALUE=DATE:20170220
DTSTAMP:20260421T025058
CREATED:20161101T193234Z
LAST-MODIFIED:20161101T193234Z
UID:2132-1487462400-1487548799@torbay4x4club.co.uk
SUMMARY:Ashcombe Trial
DESCRIPTION:
URL:https://torbay4x4club.co.uk/event/ashcombe-trial/
LOCATION:Ashcombe\, Grammarcombe Wood\, Devon\, TQ13\, United Kingdom
CATEGORIES:Trial
END:VEVENT
END:VCALENDAR