BEGIN:VCALENDAR
VERSION:2.0
PRODID:-//Torbay 4x4 Club - ECPv4.8//NONSGML v1.0//EN
CALSCALE:GREGORIAN
METHOD:PUBLISH
X-WR-CALNAME:Torbay 4x4 Club
X-ORIGINAL-URL:https://torbay4x4club.co.uk
X-WR-CALDESC:Events for Torbay 4x4 Club
BEGIN:VEVENT
DTSTART;VALUE=DATE:20190224
DTEND;VALUE=DATE:20190225
DTSTAMP:20260420T212252
CREATED:20181231T163620Z
LAST-MODIFIED:20181231T163620Z
UID:2199-1550966400-1551052799@torbay4x4club.co.uk
SUMMARY:Ashcombe Trial
DESCRIPTION:Ashcombe Trial \n
URL:https://torbay4x4club.co.uk/event/ashcombe-trial-5/
LOCATION:Ashcombe\, Grammarcombe Wood\, Devon\, TQ13\, United Kingdom
CATEGORIES:Trial
END:VEVENT
END:VCALENDAR