BEGIN:VCALENDAR
VERSION:2.0
PRODID:-//Torbay 4x4 Club - ECPv4.8//NONSGML v1.0//EN
CALSCALE:GREGORIAN
METHOD:PUBLISH
X-WR-CALNAME:Torbay 4x4 Club
X-ORIGINAL-URL:https://torbay4x4club.co.uk
X-WR-CALDESC:Events for Torbay 4x4 Club
BEGIN:VEVENT
DTSTART;VALUE=DATE:20160221
DTEND;VALUE=DATE:20160222
DTSTAMP:20260420T194058
CREATED:20151127T205131Z
LAST-MODIFIED:20151127T205300Z
UID:2033-1456012800-1456099199@torbay4x4club.co.uk
SUMMARY:Ashcombe Trial
DESCRIPTION:
URL:https://torbay4x4club.co.uk/event/ashcombe-trial-2/
LOCATION:Ashcombe\, Grammarcombe Wood\, Devon\, TQ13\, United Kingdom
CATEGORIES:Trial
END:VEVENT
END:VCALENDAR